BEGIN:VCALENDAR
VERSION:2.0
PRODID:spatie/icalendar-generator
DESCRIPTION:Veranstaltungen von Friedensbewegung Ulm
X-WR-CALDESC:Veranstaltungen von Friedensbewegung Ulm
REFRESH-INTERVAL;VALUE=DURATION:PT1440M
X-PUBLISHED-TTL:PT1440M
BEGIN:VTIMEZONE
TZID:Europe/Berlin
BEGIN:STANDARD
DTSTART:20251026T030000Z
TZOFFSETFROM:+0200
TZOFFSETTO:+0100
END:STANDARD
BEGIN:DAYLIGHT
DTSTART:20260329T020000Z
TZOFFSETFROM:+0100
TZOFFSETTO:+0200
END:DAYLIGHT
END:VTIMEZONE
BEGIN:VTIMEZONE
TZID:UTC
BEGIN:STANDARD
DTSTART:20250728T082539Z
TZOFFSETFROM:+0000
TZOFFSETTO:+0000
END:STANDARD
END:VTIMEZONE
BEGIN:VEVENT
UID:159-127
DTSTAMP:20260424T082539Z
SUMMARY:Flucht aus Afrika – Was sind die Ursachen?
LOCATION:Radio free FM 102\,6 MHz oder im Livestream der freefm.de - Mediat
 hek
ORGANIZER;CN=Reinhold Thiel:MAILTO:info@friedensredaktion-ulm.de
DTSTART;TZID=Europe/Berlin:20260210T170000
DTEND;TZID=Europe/Berlin:20260210T180000
X-ALT-DESC;FMTTYPE=TEXT/HTML:Peace on air – Das Ulmer Friedensradio mit: 
 Flucht aus Afrika – Was sind die Ursachen? Dienstag 10.02.2026 von 17 Uh
 r bis 18 Uhr Bei Radio free FM auf 102\,6 MHz oder im Livestream der freef
 m.de-Mediathek Warum riskieren junge Menschen aus afrikanischen Ländern i
 mmer wieder ihr Leben\, um nach Europa zu gelangen? Die öffentliche Debat
 te&amp;hellip\;
CATEGORIES:Friedensradio + Podcast,  Friedensbewegung,  Friedensredaktion
URL;VALUE=URI:https://www.friedensbewegung-ulm.de/mc-events/flucht-aus-afri
 ka-was-sind-die-ursachen/
METHOD:PUBLISH
END:VEVENT
END:VCALENDAR